BEGIN:VCALENDAR
VERSION:2.0
PRODID:-//wp-events-plugin.com//7.2.3.1//EN
TZID:America/New_York
X-WR-TIMEZONE:America/New_York
BEGIN:VEVENT
UID:19989@lindnercenterofhope.org
DTSTART;TZID=America/New_York:20210913T153000
DTEND;TZID=America/New_York:20210913T170000
DTSTAMP:20210715T144115Z
URL:https://lindnercenterofhope.org/events/self-compassion-group-2021-09-1
 3/
SUMMARY:SELF-COMPASSION GROUP
DESCRIPTION:Learn to be less critical towards oneself in this 10-week group
  focusing on strategies and skills to increase self-compassion.\n\nWho:\n
 • Adults (age 18 or above). Willing to consider mature adolescents as we
 ll.\n• Those who struggle with low self-worth\, negative self-talk\, and
 /or perfectionism\n• Not imminently a threat to self or others.\n• Eng
 aged in outpatient treatment at least monthly.\n• Clinician agrees to th
 is referral and to maintain treatment throughout group.\n\nWhat:\n• This
  group is developed out of the work of Kristin Neff and applies Radically 
 Open Dialectical Behavior Therapy\, Dialectical Behavior Therapy\, and cog
 nitive behavioral therapy techniques towards self-compassion.\n\nWhen:\n
 • Mondays from 3:30-5 once a sufficient number of patients have committe
 d.\n\nWhere:\n• Via Zoom as still approved during COVID19 pandemic. If t
 elepsychology no longer approved\, Bechtold Board Room at LCOH.\n\nCost:\n
 • Can accept most insurance.\n\nHow to join:\n• Discuss with your trea
 tment provider. Contact Kelly Bernens (513-536-0634) to schedule an initia
 l session with group leader to talk about the group\, commitment to the gr
 oup\, and to provide initial assessment\nforms. You will then be contacted
  once group is ready to begin!\n\nSelf Compassion Group flyer 1_21
CATEGORIES:Support Groups
END:VEVENT
BEGIN:VTIMEZONE
TZID:America/New_York
X-LIC-LOCATION:America/New_York
BEGIN:DAYLIGHT
DTSTART:20210314T030000
TZOFFSETFROM:-0500
TZOFFSETTO:-0400
TZNAME:EDT
END:DAYLIGHT
END:VTIMEZONE
END:VCALENDAR