BEGIN:VCALENDAR
VERSION:2.0
PRODID:-//wp-events-plugin.com//7.2.3.1//EN
TZID:America/New_York
X-WR-TIMEZONE:America/New_York
BEGIN:VEVENT
UID:28036@lindnercenterofhope.org
DTSTART;TZID=America/New_York:20240327T183000
DTEND;TZID=America/New_York:20240327T210000
DTSTAMP:20240209T142047Z
URL:https://lindnercenterofhope.org/events/nami-southwest-ohio-family-to-f
 amily-8-2024-03-27/
SUMMARY:NAMI Southwest Ohio Family to Family
DESCRIPTION:
CATEGORIES:Support Groups
END:VEVENT
BEGIN:VTIMEZONE
TZID:America/New_York
X-LIC-LOCATION:America/New_York
BEGIN:DAYLIGHT
DTSTART:20240310T030000
TZOFFSETFROM:-0500
TZOFFSETTO:-0400
TZNAME:EDT
END:DAYLIGHT
END:VTIMEZONE
END:VCALENDAR