BEGIN:VCALENDAR
VERSION:2.0
PRODID:-//wp-events-plugin.com//7.2.3.1//EN
TZID:America/New_York
X-WR-TIMEZONE:America/New_York
BEGIN:VEVENT
UID:28061@lindnercenterofhope.org
DTSTART;TZID=America/New_York:20240917T183000
DTEND;TZID=America/New_York:20240917T210000
DTSTAMP:20240710T185249Z
URL:https://lindnercenterofhope.org/events/nami-southwest-ohio-family-to-f
 amily-10-2024-09-17/
SUMMARY:NAMI Southwest Ohio Family-to-Family
DESCRIPTION:\n\nNAMI Family-to-Family is a no-cost 9-week course for fam
 ily\, caregivers\, and friends of individuals living with mental illness.\
 n\nThis class will meet on Tuesdays\, 6:30 PM to 9 PM\, starting Augus
 t 20 through October 15.\n\n\nSwaim Lodge\n7650 Cooper Rd\nCincinnati\, 
 OH 45242\n\nIf you have any questions\, please call (513) 351-3500 or emai
 l info@namiswoh.org.\n\n&nbsp\;\n\n\n\nRegister Here!\n\n\n\n
CATEGORIES:Support Groups
END:VEVENT
BEGIN:VTIMEZONE
TZID:America/New_York
X-LIC-LOCATION:America/New_York
BEGIN:DAYLIGHT
DTSTART:20240310T030000
TZOFFSETFROM:-0500
TZOFFSETTO:-0400
TZNAME:EDT
END:DAYLIGHT
END:VTIMEZONE
END:VCALENDAR